BEGIN:VCALENDAR
VERSION:2.0
PRODID:-//Portals of Perception - ECPv6.15.18//NONSGML v1.0//EN
CALSCALE:GREGORIAN
METHOD:PUBLISH
X-ORIGINAL-URL:https://portalsofperception.org
X-WR-CALDESC:Events for Portals of Perception
REFRESH-INTERVAL;VALUE=DURATION:PT1H
X-Robots-Tag:noindex
X-PUBLISHED-TTL:PT1H
BEGIN:VTIMEZONE
TZID:America/New_York
BEGIN:DAYLIGHT
TZOFFSETFROM:-0500
TZOFFSETTO:-0400
TZNAME:EDT
DTSTART:20200308T070000
END:DAYLIGHT
BEGIN:STANDARD
TZOFFSETFROM:-0400
TZOFFSETTO:-0500
TZNAME:EST
DTSTART:20201101T060000
END:STANDARD
BEGIN:DAYLIGHT
TZOFFSETFROM:-0500
TZOFFSETTO:-0400
TZNAME:EDT
DTSTART:20210314T070000
END:DAYLIGHT
BEGIN:STANDARD
TZOFFSETFROM:-0400
TZOFFSETTO:-0500
TZNAME:EST
DTSTART:20211107T060000
END:STANDARD
BEGIN:DAYLIGHT
TZOFFSETFROM:-0500
TZOFFSETTO:-0400
TZNAME:EDT
DTSTART:20220313T070000
END:DAYLIGHT
BEGIN:STANDARD
TZOFFSETFROM:-0400
TZOFFSETTO:-0500
TZNAME:EST
DTSTART:20221106T060000
END:STANDARD
END:VTIMEZONE
BEGIN:VEVENT
DTSTART;TZID=America/New_York:20210917T150000
DTEND;TZID=America/New_York:20210917T170000
DTSTAMP:20260421T044720
CREATED:20210804T222214Z
LAST-MODIFIED:20221210T061956Z
UID:10000072-1631890800-1631898000@portalsofperception.org
SUMMARY:Nurturing Emergent Communities
DESCRIPTION:Hello dear friends\, warm greetings \nWe are pleased to invite you to a Portals of Perception virtual event on September 17\, 3:00 - 5:00pm EDT \nNurturing Emergent Communities and Their Collective Intelligence\nThis event will be hosted by Aviv Shahar\, an author\, coach\, and global consultant\, helping leadership teams create breakthroughs that produce transformational futures. \nOur panel of guests include: \n\nGrace Boda – A transformational guide of leaders\, entrepreneurs\, and creatives to work with the full power of awakened Presence\nJeff Vander Clute – Co-founder of Sourcing the Way and Enlightening Journeys & Expeditions\, and member of the Evolutionary Leaders\nAnne Stadler – A pioneering elder\, offering services that support self-organizing individual and collective leadership\n\nHelping groups of people discover their emergent possibilities\, unleash their collective intelligence\, and produce ever higher levels of integration and inspiration is fundamental to creating thriving communities\n  \nInquiries to be explored: \n\nWhy are communities so fundamental to guiding our own future?\nWhat qualities are central to co-creative communities?\nWhat practices support collective intelligence\, facilitating greater mutuality of purpose?\n\nBe a part of this interactive exploration - participation is free. To receive your personalized Zoom link\, register below. \nA wide range of creative capabilities become activated in emergent communities.Through co-creative work\, we can discover anew who we are\n  \n			\n			\n				\n				\n				\n				\n			\n				\n				\n				\n				\n				\n				\n				\n				\n				\n				\n				In the age of ideology we found power grounded in answers. But now\, in the age of emergence\, we know that all these ideologies never could work because they are too simplistic\, which is why we must explore into the space of inquiries to continually integrate\, and encompass\, greater complexity and emergent possibilities. \nAviv Shahar \n			\n				\n				\n				\n				\n				Register and reserve your place today! \n\n\nPortals of Perception is a not-for-profit 501 (c)(3) organization
URL:https://portalsofperception.org/events/nurturing-emergent-communities-and-their-collective-intelligence/
LOCATION:Zoom
CATEGORIES:Zoom meeting
ATTACH;FMTTYPE=image/jpeg:https://portalsofperception.org/wp-content/uploads/2021/08/EVent2-community-16-9.jpg
END:VEVENT
END:VCALENDAR